BEGIN:VCALENDAR
VERSION:2.0
PRODID:-//Akron AAUP - ECPv6.15.20//NONSGML v1.0//EN
CALSCALE:GREGORIAN
METHOD:PUBLISH
X-WR-CALNAME:Akron AAUP
X-ORIGINAL-URL:https://akronaaup.org
X-WR-CALDESC:Events for Akron AAUP
REFRESH-INTERVAL;VALUE=DURATION:PT1H
X-Robots-Tag:noindex
X-PUBLISHED-TTL:PT1H
BEGIN:VTIMEZONE
TZID:UTC
BEGIN:STANDARD
TZOFFSETFROM:+0000
TZOFFSETTO:+0000
TZNAME:UTC
DTSTART:20200101T000000
END:STANDARD
END:VTIMEZONE
BEGIN:VEVENT
DTSTART;TZID=UTC:20210219T090000
DTEND;TZID=UTC:20210219T110000
DTSTAMP:20260421T082816
CREATED:20210217T171219Z
LAST-MODIFIED:20210217T171421Z
UID:3716-1613725200-1613732400@akronaaup.org
SUMMARY:Chapter Meeting
DESCRIPTION:
URL:https://akronaaup.org/event/chapter-meeting-2/
LOCATION:WebEx (see link sent via email)
CATEGORIES:Members Only Events
ATTACH;FMTTYPE=image/png:https://akronaaup.org/wp-content/uploads/2021/02/Screen-Shot-2021-02-17-at-11.59.26-AM.png
ORGANIZER;CN="Pam Schulze":MAILTO:pam.schulze@akronaaup.org
END:VEVENT
END:VCALENDAR