BEGIN:VCALENDAR
VERSION:2.0
PRODID:-//Akron AAUP - ECPv6.15.20//NONSGML v1.0//EN
CALSCALE:GREGORIAN
METHOD:PUBLISH
X-WR-CALNAME:Akron AAUP
X-ORIGINAL-URL:https://akronaaup.org
X-WR-CALDESC:Events for Akron AAUP
REFRESH-INTERVAL;VALUE=DURATION:PT1H
X-Robots-Tag:noindex
X-PUBLISHED-TTL:PT1H
BEGIN:VTIMEZONE
TZID:UTC
BEGIN:STANDARD
TZOFFSETFROM:+0000
TZOFFSETTO:+0000
TZNAME:UTC
DTSTART:20200101T000000
END:STANDARD
END:VTIMEZONE
BEGIN:VEVENT
DTSTART;TZID=UTC:20211026T153000
DTEND;TZID=UTC:20211026T170000
DTSTAMP:20260421T081849
CREATED:20211012T015642Z
LAST-MODIFIED:20211012T015709Z
UID:4127-1635262200-1635267600@akronaaup.org
SUMMARY:Fall Chapter Meeting
DESCRIPTION:Our Fall Chapter Meeting will be held from 3:30-5:00 PM on October 26th\, 2021 in the C. Blake McDowell Law Center Room 280.\n\n\nZoom link will be available upon request.
URL:https://akronaaup.org/event/fall-chapter-meeting/
LOCATION:https://us02web.zoom.us/j/88301477701  Meeting ID: 883 0147 7701
CATEGORIES:Members Only Events
ATTACH;FMTTYPE=image/jpeg:https://akronaaup.org/wp-content/uploads/2019/04/Chapter-Meeting.jpg
ORGANIZER;CN="Toni Bisconti":MAILTO:toni.bisconti@akronaaup.org
END:VEVENT
END:VCALENDAR