BEGIN:VCALENDAR
VERSION:2.0
PRODID:-//Akron AAUP - ECPv6.15.20//NONSGML v1.0//EN
CALSCALE:GREGORIAN
METHOD:PUBLISH
X-WR-CALNAME:Akron AAUP
X-ORIGINAL-URL:https://akronaaup.org
X-WR-CALDESC:Events for Akron AAUP
REFRESH-INTERVAL;VALUE=DURATION:PT1H
X-Robots-Tag:noindex
X-PUBLISHED-TTL:PT1H
BEGIN:VTIMEZONE
TZID:UTC
BEGIN:STANDARD
TZOFFSETFROM:+0000
TZOFFSETTO:+0000
TZNAME:UTC
DTSTART:20190101T000000
END:STANDARD
END:VTIMEZONE
BEGIN:VEVENT
DTSTART;TZID=UTC:20200911T130000
DTEND;TZID=UTC:20200911T140000
DTSTAMP:20260421T081346
CREATED:20200910T182010Z
LAST-MODIFIED:20200910T182010Z
UID:3238-1599829200-1599832800@akronaaup.org
SUMMARY:RIF List Faculty Q & A - (Executive Committee)
DESCRIPTION:
URL:https://akronaaup.org/event/rif-list-faculty-q-a-executive-committee/
LOCATION:Google Meet (see link in email)
ATTACH;FMTTYPE=image/jpeg:https://akronaaup.org/wp-content/uploads/2020/07/1A1CAC63-EC6B-4BA2-B721-196FA6264679.jpeg
ORGANIZER;CN="Pam Schulze":MAILTO:pam.schulze@akronaaup.org
END:VEVENT
END:VCALENDAR